BEGIN:VCALENDAR
VERSION:2.0
PRODID:-//eventon.com NONSGML v1.0//EN
CALSCALE:GREGORIAN
METHOD:PUBLISH
BEGIN:VEVENT
UID:69e9dcbb61de3
DTSTAMP:20260423T084755Z
DTSTART:20231225
DTEND:20231226
LOCATION:
SUMMARY:1. Weihnachtstag
DESCRIPTION:1. Weihnachtstag\nhttps://friedensschule-rehnenhof.de/events/1-
 weihnachtstag/
URL:https://friedensschule-rehnenhof.de/events/1-weihnachtstag/
END:VEVENT
END:VCALENDAR