BEGIN:VCALENDAR
VERSION:2.0
PRODID:-//eventon.com NONSGML v1.0//EN
CALSCALE:GREGORIAN
METHOD:PUBLISH
BEGIN:VEVENT
UID:69e9aa171ccfa
DTSTAMP:20260423T051151Z
DTSTART:20230310T063600Z
DTEND:20230310T063600Z
LOCATION:
SUMMARY:Kommunikationsprüfung Englisch HAP+RAP
DESCRIPTION:Kommunikationsprüfung Englisch HAP+RAP\nhttps://friedensschule
 -rehnenhof.de/events/kommunikationspruefung-englisch-haprap-3/
URL:https://friedensschule-rehnenhof.de/events/kommunikationspruefung-englisch-haprap-3/
END:VEVENT
END:VCALENDAR