BEGIN:VCALENDAR
VERSION:2.0
PRODID:-//eventon.com NONSGML v1.0//EN
CALSCALE:GREGORIAN
METHOD:PUBLISH
BEGIN:VEVENT
UID:69ea3c93a7caf
DTSTAMP:20260423T153651Z
DTSTART:20230309T063600Z
DTEND:20230309T063600Z
LOCATION:
SUMMARY:Kommunikationsprüfung Englisch HAP+RAP
DESCRIPTION:Kommunikationsprüfung Englisch HAP+RAP\nhttps://friedensschule
 -rehnenhof.de/events/kommunikationspruefung-englisch-haprap-2/
URL:https://friedensschule-rehnenhof.de/events/kommunikationspruefung-englisch-haprap-2/
END:VEVENT
END:VCALENDAR