BEGIN:VCALENDAR
VERSION:2.0
PRODID:-//eventon.com NONSGML v1.0//EN
CALSCALE:GREGORIAN
METHOD:PUBLISH
BEGIN:VEVENT
UID:69e8a36b534ac
DTSTAMP:20260422T103107Z
DTSTART:20230705
DTEND:20230706
LOCATION:
SUMMARY:Sport Spaß Grundschule
DESCRIPTION:Sport Spaß Grundschule\nhttps://friedensschule-rehnenhof.de/ev
 ents/sport-spass-grundschule/
URL:https://friedensschule-rehnenhof.de/events/sport-spass-grundschule/
END:VEVENT
END:VCALENDAR