BEGIN:VCALENDAR
VERSION:2.0
PRODID:-//eventon.com NONSGML v1.0//EN
CALSCALE:GREGORIAN
METHOD:PUBLISH
BEGIN:VEVENT
UID:69e7715bc25fe
DTSTAMP:20260421T124515Z
DTSTART:20230301
DTEND:20230302
LOCATION:
SUMMARY:Schulanmeldung Klasse 1
DESCRIPTION:Schulanmeldung Klasse 1\nhttps://friedensschule-rehnenhof.de/ev
 ents/schulanmeldung-klasse-1-2/
URL:https://friedensschule-rehnenhof.de/events/schulanmeldung-klasse-1-2/
END:VEVENT
END:VCALENDAR