BEGIN:VCALENDAR
VERSION:2.0
PRODID:-//eventon.com NONSGML v1.0//EN
CALSCALE:GREGORIAN
METHOD:PUBLISH
BEGIN:VEVENT
UID:69ea1600026ca
DTSTAMP:20260423T125216Z
DTSTART:20221007
DTEND:20221008
LOCATION:
SUMMARY:Demokratieerziehung: Klassen 8/9 außerschul. Veranstaltung
DESCRIPTION:Demokratieerziehung: Klassen 8/9 außerschul. Veranstaltung\nht
 tps://friedensschule-rehnenhof.de/events/demokratieerziehung-klassen-8-9-au
 sserschul-veranstaltung/
URL:https://friedensschule-rehnenhof.de/events/demokratieerziehung-klassen-8-9-ausserschul-veranstaltung/
END:VEVENT
END:VCALENDAR